BEGIN:VCALENDAR
VERSION:2.0
PRODID:-//CORBETTS - ECPv6.15.20//NONSGML v1.0//EN
CALSCALE:GREGORIAN
METHOD:PUBLISH
X-ORIGINAL-URL:https://corbettstucson.com
X-WR-CALDESC:Events for CORBETTS
REFRESH-INTERVAL;VALUE=DURATION:PT1H
X-Robots-Tag:noindex
X-PUBLISHED-TTL:PT1H
BEGIN:VTIMEZONE
TZID:UTC
BEGIN:STANDARD
TZOFFSETFROM:+0000
TZOFFSETTO:+0000
TZNAME:UTC
DTSTART:20270101T000000
END:STANDARD
END:VTIMEZONE
BEGIN:VEVENT
DTSTART;TZID=UTC:20281217T120000
DTEND;TZID=UTC:20281217T150000
DTSTAMP:20260423T111209
CREATED:20260218T222250Z
LAST-MODIFIED:20260218T222252Z
UID:10004804-1860667200-1860678000@corbettstucson.com
SUMMARY:Sunday Roundup - Brunch
DESCRIPTION:Sunday Roundup Brunch at CORBETT’S brings the party to the Beer Garden every Sunday from 12–3pm in Tucson. Enjoy a live DJ spinning top hits and Country YeeDM\, plus endless mimosas and crowd-favorite brunch plates in an open-air setting. If you’re looking for the best Sunday brunch in Tucson with music and a high-energy atmosphere\, this is it. 🤠🥂
URL:https://corbettstucson.com/events-cal/sunday-roundup-brunch/2028-12-17
ATTACH;FMTTYPE=image/png:https://corbettstucson.com/wp-content/uploads/2026/02/Sunday-Roundup.png
END:VEVENT
BEGIN:VEVENT
DTSTART;TZID=UTC:20281218T170000
DTEND;TZID=UTC:20281218T220000
DTSTAMP:20260423T111209
CREATED:20260120T233546Z
LAST-MODIFIED:20260120T233549Z
UID:10004285-1860771600-1860789600@corbettstucson.com
SUMMARY:Monday Open Play
DESCRIPTION:Get those paddles up every Monday from 5pm-10pm for open play! $12 to play and no reservations needed.  \n\n\n\nDon’t have anyone to play with? Solo players welcome as well! We can help pair you up when you’re here. \n\n\n\nIndoor courts are for the beginners and the outdoor courts are for intermediate and advance players.
URL:https://corbettstucson.com/events-cal/monday-open-play/2028-12-18
ATTACH;FMTTYPE=image/png:https://corbettstucson.com/wp-content/uploads/2024/04/Open-Play-DJ-IG-Post.png
END:VEVENT
BEGIN:VEVENT
DTSTART;TZID=UTC:20281219T190000
DTEND;TZID=UTC:20281219T210000
DTSTAMP:20260423T111209
CREATED:20260120T233038Z
LAST-MODIFIED:20260120T233044Z
UID:10004025-1860865200-1860872400@corbettstucson.com
SUMMARY:Trivia Tuesday
DESCRIPTION:Fill your Tuesday with trivia\, tacos\, and tequila! 🌮🌮🍹 \n\n\n\nFrom 7-9pm you can order 2 tacos and 1 tequila (as a shot or in a margarita) for $17 while testing your trivia knowledge. \n\n\n\nTrivia Tuesday
URL:https://corbettstucson.com/events-cal/trivia-tuesday/2028-12-19
ATTACH;FMTTYPE=image/png:https://corbettstucson.com/wp-content/uploads/2026/01/TTT-Tuesday-2.png
END:VEVENT
BEGIN:VEVENT
DTSTART;TZID=UTC:20281221T180000
DTEND;TZID=UTC:20281221T230000
DTSTAMP:20260423T111209
CREATED:20260120T234847Z
LAST-MODIFIED:20260120T234852Z
UID:10004547-1861034400-1861052400@corbettstucson.com
SUMMARY:Boots & Beats
DESCRIPTION:CORBETT’S goes country every Thursday 🤠Live music at 6pmDJ at 9pm21+ after 10pm \n\n\n\nDrink specials from 9pm to close:$2.94 Brown Bag • $3 Domestic Drafts • $5 Jack • $6 Titos or High West • $7 Sonoran Tea \n\n\n\nDance lessons 8pm-9pm every 1st and 3rd week of the month \n\n\n\nBoots and Beats
URL:https://corbettstucson.com/events-cal/boots-beats/2028-12-21
ATTACH;FMTTYPE=image/jpeg:https://corbettstucson.com/wp-content/uploads/2026/01/Boots-and-Beats.jpg
END:VEVENT
BEGIN:VEVENT
DTSTART;TZID=UTC:20281224T120000
DTEND;TZID=UTC:20281224T150000
DTSTAMP:20260423T111209
CREATED:20260218T222250Z
LAST-MODIFIED:20260218T222252Z
UID:10004805-1861272000-1861282800@corbettstucson.com
SUMMARY:Sunday Roundup - Brunch
DESCRIPTION:Sunday Roundup Brunch at CORBETT’S brings the party to the Beer Garden every Sunday from 12–3pm in Tucson. Enjoy a live DJ spinning top hits and Country YeeDM\, plus endless mimosas and crowd-favorite brunch plates in an open-air setting. If you’re looking for the best Sunday brunch in Tucson with music and a high-energy atmosphere\, this is it. 🤠🥂
URL:https://corbettstucson.com/events-cal/sunday-roundup-brunch/2028-12-24
ATTACH;FMTTYPE=image/png:https://corbettstucson.com/wp-content/uploads/2026/02/Sunday-Roundup.png
END:VEVENT
BEGIN:VEVENT
DTSTART;TZID=UTC:20281225T170000
DTEND;TZID=UTC:20281225T220000
DTSTAMP:20260423T111209
CREATED:20260120T233546Z
LAST-MODIFIED:20260120T233549Z
UID:10004286-1861376400-1861394400@corbettstucson.com
SUMMARY:Monday Open Play
DESCRIPTION:Get those paddles up every Monday from 5pm-10pm for open play! $12 to play and no reservations needed.  \n\n\n\nDon’t have anyone to play with? Solo players welcome as well! We can help pair you up when you’re here. \n\n\n\nIndoor courts are for the beginners and the outdoor courts are for intermediate and advance players.
URL:https://corbettstucson.com/events-cal/monday-open-play/2028-12-25
ATTACH;FMTTYPE=image/png:https://corbettstucson.com/wp-content/uploads/2024/04/Open-Play-DJ-IG-Post.png
END:VEVENT
BEGIN:VEVENT
DTSTART;TZID=UTC:20281226T190000
DTEND;TZID=UTC:20281226T210000
DTSTAMP:20260423T111209
CREATED:20260120T233038Z
LAST-MODIFIED:20260120T233044Z
UID:10004026-1861470000-1861477200@corbettstucson.com
SUMMARY:Trivia Tuesday
DESCRIPTION:Fill your Tuesday with trivia\, tacos\, and tequila! 🌮🌮🍹 \n\n\n\nFrom 7-9pm you can order 2 tacos and 1 tequila (as a shot or in a margarita) for $17 while testing your trivia knowledge. \n\n\n\nTrivia Tuesday
URL:https://corbettstucson.com/events-cal/trivia-tuesday/2028-12-26
ATTACH;FMTTYPE=image/png:https://corbettstucson.com/wp-content/uploads/2026/01/TTT-Tuesday-2.png
END:VEVENT
BEGIN:VEVENT
DTSTART;TZID=UTC:20281228T180000
DTEND;TZID=UTC:20281228T230000
DTSTAMP:20260423T111209
CREATED:20260120T234847Z
LAST-MODIFIED:20260120T234852Z
UID:10004548-1861639200-1861657200@corbettstucson.com
SUMMARY:Boots & Beats
DESCRIPTION:CORBETT’S goes country every Thursday 🤠Live music at 6pmDJ at 9pm21+ after 10pm \n\n\n\nDrink specials from 9pm to close:$2.94 Brown Bag • $3 Domestic Drafts • $5 Jack • $6 Titos or High West • $7 Sonoran Tea \n\n\n\nDance lessons 8pm-9pm every 1st and 3rd week of the month \n\n\n\nBoots and Beats
URL:https://corbettstucson.com/events-cal/boots-beats/2028-12-28
ATTACH;FMTTYPE=image/jpeg:https://corbettstucson.com/wp-content/uploads/2026/01/Boots-and-Beats.jpg
END:VEVENT
BEGIN:VEVENT
DTSTART;TZID=UTC:20281231T120000
DTEND;TZID=UTC:20281231T150000
DTSTAMP:20260423T111209
CREATED:20260218T222250Z
LAST-MODIFIED:20260218T222252Z
UID:10004806-1861876800-1861887600@corbettstucson.com
SUMMARY:Sunday Roundup - Brunch
DESCRIPTION:Sunday Roundup Brunch at CORBETT’S brings the party to the Beer Garden every Sunday from 12–3pm in Tucson. Enjoy a live DJ spinning top hits and Country YeeDM\, plus endless mimosas and crowd-favorite brunch plates in an open-air setting. If you’re looking for the best Sunday brunch in Tucson with music and a high-energy atmosphere\, this is it. 🤠🥂
URL:https://corbettstucson.com/events-cal/sunday-roundup-brunch/2028-12-31
ATTACH;FMTTYPE=image/png:https://corbettstucson.com/wp-content/uploads/2026/02/Sunday-Roundup.png
END:VEVENT
BEGIN:VEVENT
DTSTART;TZID=UTC:20290101T170000
DTEND;TZID=UTC:20290101T220000
DTSTAMP:20260423T111209
CREATED:20260120T233546Z
LAST-MODIFIED:20260120T233549Z
UID:10004287-1861981200-1861999200@corbettstucson.com
SUMMARY:Monday Open Play
DESCRIPTION:Get those paddles up every Monday from 5pm-10pm for open play! $12 to play and no reservations needed.  \n\n\n\nDon’t have anyone to play with? Solo players welcome as well! We can help pair you up when you’re here. \n\n\n\nIndoor courts are for the beginners and the outdoor courts are for intermediate and advance players.
URL:https://corbettstucson.com/events-cal/monday-open-play/2029-01-01
ATTACH;FMTTYPE=image/png:https://corbettstucson.com/wp-content/uploads/2024/04/Open-Play-DJ-IG-Post.png
END:VEVENT
BEGIN:VEVENT
DTSTART;TZID=UTC:20290102T190000
DTEND;TZID=UTC:20290102T210000
DTSTAMP:20260423T111209
CREATED:20260120T233038Z
LAST-MODIFIED:20260120T233044Z
UID:10004027-1862074800-1862082000@corbettstucson.com
SUMMARY:Trivia Tuesday
DESCRIPTION:Fill your Tuesday with trivia\, tacos\, and tequila! 🌮🌮🍹 \n\n\n\nFrom 7-9pm you can order 2 tacos and 1 tequila (as a shot or in a margarita) for $17 while testing your trivia knowledge. \n\n\n\nTrivia Tuesday
URL:https://corbettstucson.com/events-cal/trivia-tuesday/2029-01-02
ATTACH;FMTTYPE=image/png:https://corbettstucson.com/wp-content/uploads/2026/01/TTT-Tuesday-2.png
END:VEVENT
BEGIN:VEVENT
DTSTART;TZID=UTC:20290104T180000
DTEND;TZID=UTC:20290104T230000
DTSTAMP:20260423T111209
CREATED:20260120T234847Z
LAST-MODIFIED:20260120T234852Z
UID:10004549-1862244000-1862262000@corbettstucson.com
SUMMARY:Boots & Beats
DESCRIPTION:CORBETT’S goes country every Thursday 🤠Live music at 6pmDJ at 9pm21+ after 10pm \n\n\n\nDrink specials from 9pm to close:$2.94 Brown Bag • $3 Domestic Drafts • $5 Jack • $6 Titos or High West • $7 Sonoran Tea \n\n\n\nDance lessons 8pm-9pm every 1st and 3rd week of the month \n\n\n\nBoots and Beats
URL:https://corbettstucson.com/events-cal/boots-beats/2029-01-04
ATTACH;FMTTYPE=image/jpeg:https://corbettstucson.com/wp-content/uploads/2026/01/Boots-and-Beats.jpg
END:VEVENT
BEGIN:VEVENT
DTSTART;TZID=UTC:20290107T120000
DTEND;TZID=UTC:20290107T150000
DTSTAMP:20260423T111209
CREATED:20260218T222250Z
LAST-MODIFIED:20260218T222252Z
UID:10004807-1862481600-1862492400@corbettstucson.com
SUMMARY:Sunday Roundup - Brunch
DESCRIPTION:Sunday Roundup Brunch at CORBETT’S brings the party to the Beer Garden every Sunday from 12–3pm in Tucson. Enjoy a live DJ spinning top hits and Country YeeDM\, plus endless mimosas and crowd-favorite brunch plates in an open-air setting. If you’re looking for the best Sunday brunch in Tucson with music and a high-energy atmosphere\, this is it. 🤠🥂
URL:https://corbettstucson.com/events-cal/sunday-roundup-brunch/2029-01-07
ATTACH;FMTTYPE=image/png:https://corbettstucson.com/wp-content/uploads/2026/02/Sunday-Roundup.png
END:VEVENT
BEGIN:VEVENT
DTSTART;TZID=UTC:20290108T170000
DTEND;TZID=UTC:20290108T220000
DTSTAMP:20260423T111209
CREATED:20260120T233546Z
LAST-MODIFIED:20260120T233549Z
UID:10004288-1862586000-1862604000@corbettstucson.com
SUMMARY:Monday Open Play
DESCRIPTION:Get those paddles up every Monday from 5pm-10pm for open play! $12 to play and no reservations needed.  \n\n\n\nDon’t have anyone to play with? Solo players welcome as well! We can help pair you up when you’re here. \n\n\n\nIndoor courts are for the beginners and the outdoor courts are for intermediate and advance players.
URL:https://corbettstucson.com/events-cal/monday-open-play/2029-01-08
ATTACH;FMTTYPE=image/png:https://corbettstucson.com/wp-content/uploads/2024/04/Open-Play-DJ-IG-Post.png
END:VEVENT
BEGIN:VEVENT
DTSTART;TZID=UTC:20290109T190000
DTEND;TZID=UTC:20290109T210000
DTSTAMP:20260423T111209
CREATED:20260120T233038Z
LAST-MODIFIED:20260120T233044Z
UID:10004028-1862679600-1862686800@corbettstucson.com
SUMMARY:Trivia Tuesday
DESCRIPTION:Fill your Tuesday with trivia\, tacos\, and tequila! 🌮🌮🍹 \n\n\n\nFrom 7-9pm you can order 2 tacos and 1 tequila (as a shot or in a margarita) for $17 while testing your trivia knowledge. \n\n\n\nTrivia Tuesday
URL:https://corbettstucson.com/events-cal/trivia-tuesday/2029-01-09
ATTACH;FMTTYPE=image/png:https://corbettstucson.com/wp-content/uploads/2026/01/TTT-Tuesday-2.png
END:VEVENT
BEGIN:VEVENT
DTSTART;TZID=UTC:20290111T180000
DTEND;TZID=UTC:20290111T230000
DTSTAMP:20260423T111209
CREATED:20260120T234847Z
LAST-MODIFIED:20260120T234852Z
UID:10004550-1862848800-1862866800@corbettstucson.com
SUMMARY:Boots & Beats
DESCRIPTION:CORBETT’S goes country every Thursday 🤠Live music at 6pmDJ at 9pm21+ after 10pm \n\n\n\nDrink specials from 9pm to close:$2.94 Brown Bag • $3 Domestic Drafts • $5 Jack • $6 Titos or High West • $7 Sonoran Tea \n\n\n\nDance lessons 8pm-9pm every 1st and 3rd week of the month \n\n\n\nBoots and Beats
URL:https://corbettstucson.com/events-cal/boots-beats/2029-01-11
ATTACH;FMTTYPE=image/jpeg:https://corbettstucson.com/wp-content/uploads/2026/01/Boots-and-Beats.jpg
END:VEVENT
BEGIN:VEVENT
DTSTART;TZID=UTC:20290114T120000
DTEND;TZID=UTC:20290114T150000
DTSTAMP:20260423T111209
CREATED:20260218T222250Z
LAST-MODIFIED:20260218T222252Z
UID:10004808-1863086400-1863097200@corbettstucson.com
SUMMARY:Sunday Roundup - Brunch
DESCRIPTION:Sunday Roundup Brunch at CORBETT’S brings the party to the Beer Garden every Sunday from 12–3pm in Tucson. Enjoy a live DJ spinning top hits and Country YeeDM\, plus endless mimosas and crowd-favorite brunch plates in an open-air setting. If you’re looking for the best Sunday brunch in Tucson with music and a high-energy atmosphere\, this is it. 🤠🥂
URL:https://corbettstucson.com/events-cal/sunday-roundup-brunch/2029-01-14
ATTACH;FMTTYPE=image/png:https://corbettstucson.com/wp-content/uploads/2026/02/Sunday-Roundup.png
END:VEVENT
BEGIN:VEVENT
DTSTART;TZID=UTC:20290115T170000
DTEND;TZID=UTC:20290115T220000
DTSTAMP:20260423T111209
CREATED:20260120T233546Z
LAST-MODIFIED:20260120T233549Z
UID:10004289-1863190800-1863208800@corbettstucson.com
SUMMARY:Monday Open Play
DESCRIPTION:Get those paddles up every Monday from 5pm-10pm for open play! $12 to play and no reservations needed.  \n\n\n\nDon’t have anyone to play with? Solo players welcome as well! We can help pair you up when you’re here. \n\n\n\nIndoor courts are for the beginners and the outdoor courts are for intermediate and advance players.
URL:https://corbettstucson.com/events-cal/monday-open-play/2029-01-15
ATTACH;FMTTYPE=image/png:https://corbettstucson.com/wp-content/uploads/2024/04/Open-Play-DJ-IG-Post.png
END:VEVENT
BEGIN:VEVENT
DTSTART;TZID=UTC:20290116T190000
DTEND;TZID=UTC:20290116T210000
DTSTAMP:20260423T111209
CREATED:20260120T233038Z
LAST-MODIFIED:20260120T233044Z
UID:10004029-1863284400-1863291600@corbettstucson.com
SUMMARY:Trivia Tuesday
DESCRIPTION:Fill your Tuesday with trivia\, tacos\, and tequila! 🌮🌮🍹 \n\n\n\nFrom 7-9pm you can order 2 tacos and 1 tequila (as a shot or in a margarita) for $17 while testing your trivia knowledge. \n\n\n\nTrivia Tuesday
URL:https://corbettstucson.com/events-cal/trivia-tuesday/2029-01-16
ATTACH;FMTTYPE=image/png:https://corbettstucson.com/wp-content/uploads/2026/01/TTT-Tuesday-2.png
END:VEVENT
BEGIN:VEVENT
DTSTART;TZID=UTC:20290118T180000
DTEND;TZID=UTC:20290118T230000
DTSTAMP:20260423T111209
CREATED:20260120T234847Z
LAST-MODIFIED:20260120T234852Z
UID:10004551-1863453600-1863471600@corbettstucson.com
SUMMARY:Boots & Beats
DESCRIPTION:CORBETT’S goes country every Thursday 🤠Live music at 6pmDJ at 9pm21+ after 10pm \n\n\n\nDrink specials from 9pm to close:$2.94 Brown Bag • $3 Domestic Drafts • $5 Jack • $6 Titos or High West • $7 Sonoran Tea \n\n\n\nDance lessons 8pm-9pm every 1st and 3rd week of the month \n\n\n\nBoots and Beats
URL:https://corbettstucson.com/events-cal/boots-beats/2029-01-18
ATTACH;FMTTYPE=image/jpeg:https://corbettstucson.com/wp-content/uploads/2026/01/Boots-and-Beats.jpg
END:VEVENT
BEGIN:VEVENT
DTSTART;TZID=UTC:20290121T120000
DTEND;TZID=UTC:20290121T150000
DTSTAMP:20260423T111209
CREATED:20260218T222250Z
LAST-MODIFIED:20260218T222252Z
UID:10004809-1863691200-1863702000@corbettstucson.com
SUMMARY:Sunday Roundup - Brunch
DESCRIPTION:Sunday Roundup Brunch at CORBETT’S brings the party to the Beer Garden every Sunday from 12–3pm in Tucson. Enjoy a live DJ spinning top hits and Country YeeDM\, plus endless mimosas and crowd-favorite brunch plates in an open-air setting. If you’re looking for the best Sunday brunch in Tucson with music and a high-energy atmosphere\, this is it. 🤠🥂
URL:https://corbettstucson.com/events-cal/sunday-roundup-brunch/2029-01-21
ATTACH;FMTTYPE=image/png:https://corbettstucson.com/wp-content/uploads/2026/02/Sunday-Roundup.png
END:VEVENT
BEGIN:VEVENT
DTSTART;TZID=UTC:20290122T170000
DTEND;TZID=UTC:20290122T220000
DTSTAMP:20260423T111209
CREATED:20260120T233546Z
LAST-MODIFIED:20260120T233549Z
UID:10004290-1863795600-1863813600@corbettstucson.com
SUMMARY:Monday Open Play
DESCRIPTION:Get those paddles up every Monday from 5pm-10pm for open play! $12 to play and no reservations needed.  \n\n\n\nDon’t have anyone to play with? Solo players welcome as well! We can help pair you up when you’re here. \n\n\n\nIndoor courts are for the beginners and the outdoor courts are for intermediate and advance players.
URL:https://corbettstucson.com/events-cal/monday-open-play/2029-01-22
ATTACH;FMTTYPE=image/png:https://corbettstucson.com/wp-content/uploads/2024/04/Open-Play-DJ-IG-Post.png
END:VEVENT
BEGIN:VEVENT
DTSTART;TZID=UTC:20290123T190000
DTEND;TZID=UTC:20290123T210000
DTSTAMP:20260423T111209
CREATED:20260120T233038Z
LAST-MODIFIED:20260120T233044Z
UID:10004030-1863889200-1863896400@corbettstucson.com
SUMMARY:Trivia Tuesday
DESCRIPTION:Fill your Tuesday with trivia\, tacos\, and tequila! 🌮🌮🍹 \n\n\n\nFrom 7-9pm you can order 2 tacos and 1 tequila (as a shot or in a margarita) for $17 while testing your trivia knowledge. \n\n\n\nTrivia Tuesday
URL:https://corbettstucson.com/events-cal/trivia-tuesday/2029-01-23
ATTACH;FMTTYPE=image/png:https://corbettstucson.com/wp-content/uploads/2026/01/TTT-Tuesday-2.png
END:VEVENT
BEGIN:VEVENT
DTSTART;TZID=UTC:20290125T180000
DTEND;TZID=UTC:20290125T230000
DTSTAMP:20260423T111209
CREATED:20260120T234847Z
LAST-MODIFIED:20260120T234852Z
UID:10004552-1864058400-1864076400@corbettstucson.com
SUMMARY:Boots & Beats
DESCRIPTION:CORBETT’S goes country every Thursday 🤠Live music at 6pmDJ at 9pm21+ after 10pm \n\n\n\nDrink specials from 9pm to close:$2.94 Brown Bag • $3 Domestic Drafts • $5 Jack • $6 Titos or High West • $7 Sonoran Tea \n\n\n\nDance lessons 8pm-9pm every 1st and 3rd week of the month \n\n\n\nBoots and Beats
URL:https://corbettstucson.com/events-cal/boots-beats/2029-01-25
ATTACH;FMTTYPE=image/jpeg:https://corbettstucson.com/wp-content/uploads/2026/01/Boots-and-Beats.jpg
END:VEVENT
BEGIN:VEVENT
DTSTART;TZID=UTC:20290128T120000
DTEND;TZID=UTC:20290128T150000
DTSTAMP:20260423T111209
CREATED:20260218T222250Z
LAST-MODIFIED:20260218T222252Z
UID:10004810-1864296000-1864306800@corbettstucson.com
SUMMARY:Sunday Roundup - Brunch
DESCRIPTION:Sunday Roundup Brunch at CORBETT’S brings the party to the Beer Garden every Sunday from 12–3pm in Tucson. Enjoy a live DJ spinning top hits and Country YeeDM\, plus endless mimosas and crowd-favorite brunch plates in an open-air setting. If you’re looking for the best Sunday brunch in Tucson with music and a high-energy atmosphere\, this is it. 🤠🥂
URL:https://corbettstucson.com/events-cal/sunday-roundup-brunch/2029-01-28
ATTACH;FMTTYPE=image/png:https://corbettstucson.com/wp-content/uploads/2026/02/Sunday-Roundup.png
END:VEVENT
BEGIN:VEVENT
DTSTART;TZID=UTC:20290129T170000
DTEND;TZID=UTC:20290129T220000
DTSTAMP:20260423T111209
CREATED:20260120T233546Z
LAST-MODIFIED:20260120T233549Z
UID:10004291-1864400400-1864418400@corbettstucson.com
SUMMARY:Monday Open Play
DESCRIPTION:Get those paddles up every Monday from 5pm-10pm for open play! $12 to play and no reservations needed.  \n\n\n\nDon’t have anyone to play with? Solo players welcome as well! We can help pair you up when you’re here. \n\n\n\nIndoor courts are for the beginners and the outdoor courts are for intermediate and advance players.
URL:https://corbettstucson.com/events-cal/monday-open-play/2029-01-29
ATTACH;FMTTYPE=image/png:https://corbettstucson.com/wp-content/uploads/2024/04/Open-Play-DJ-IG-Post.png
END:VEVENT
BEGIN:VEVENT
DTSTART;TZID=UTC:20290130T190000
DTEND;TZID=UTC:20290130T210000
DTSTAMP:20260423T111209
CREATED:20260120T233038Z
LAST-MODIFIED:20260120T233044Z
UID:10004031-1864494000-1864501200@corbettstucson.com
SUMMARY:Trivia Tuesday
DESCRIPTION:Fill your Tuesday with trivia\, tacos\, and tequila! 🌮🌮🍹 \n\n\n\nFrom 7-9pm you can order 2 tacos and 1 tequila (as a shot or in a margarita) for $17 while testing your trivia knowledge. \n\n\n\nTrivia Tuesday
URL:https://corbettstucson.com/events-cal/trivia-tuesday/2029-01-30
ATTACH;FMTTYPE=image/png:https://corbettstucson.com/wp-content/uploads/2026/01/TTT-Tuesday-2.png
END:VEVENT
BEGIN:VEVENT
DTSTART;TZID=UTC:20290201T180000
DTEND;TZID=UTC:20290201T230000
DTSTAMP:20260423T111209
CREATED:20260120T234847Z
LAST-MODIFIED:20260120T234852Z
UID:10004553-1864663200-1864681200@corbettstucson.com
SUMMARY:Boots & Beats
DESCRIPTION:CORBETT’S goes country every Thursday 🤠Live music at 6pmDJ at 9pm21+ after 10pm \n\n\n\nDrink specials from 9pm to close:$2.94 Brown Bag • $3 Domestic Drafts • $5 Jack • $6 Titos or High West • $7 Sonoran Tea \n\n\n\nDance lessons 8pm-9pm every 1st and 3rd week of the month \n\n\n\nBoots and Beats
URL:https://corbettstucson.com/events-cal/boots-beats/2029-02-01
ATTACH;FMTTYPE=image/jpeg:https://corbettstucson.com/wp-content/uploads/2026/01/Boots-and-Beats.jpg
END:VEVENT
BEGIN:VEVENT
DTSTART;TZID=UTC:20290204T120000
DTEND;TZID=UTC:20290204T150000
DTSTAMP:20260423T111209
CREATED:20260218T222250Z
LAST-MODIFIED:20260218T222252Z
UID:10004811-1864900800-1864911600@corbettstucson.com
SUMMARY:Sunday Roundup - Brunch
DESCRIPTION:Sunday Roundup Brunch at CORBETT’S brings the party to the Beer Garden every Sunday from 12–3pm in Tucson. Enjoy a live DJ spinning top hits and Country YeeDM\, plus endless mimosas and crowd-favorite brunch plates in an open-air setting. If you’re looking for the best Sunday brunch in Tucson with music and a high-energy atmosphere\, this is it. 🤠🥂
URL:https://corbettstucson.com/events-cal/sunday-roundup-brunch/2029-02-04
ATTACH;FMTTYPE=image/png:https://corbettstucson.com/wp-content/uploads/2026/02/Sunday-Roundup.png
END:VEVENT
BEGIN:VEVENT
DTSTART;TZID=UTC:20290205T170000
DTEND;TZID=UTC:20290205T220000
DTSTAMP:20260423T111209
CREATED:20260120T233546Z
LAST-MODIFIED:20260120T233549Z
UID:10004292-1865005200-1865023200@corbettstucson.com
SUMMARY:Monday Open Play
DESCRIPTION:Get those paddles up every Monday from 5pm-10pm for open play! $12 to play and no reservations needed.  \n\n\n\nDon’t have anyone to play with? Solo players welcome as well! We can help pair you up when you’re here. \n\n\n\nIndoor courts are for the beginners and the outdoor courts are for intermediate and advance players.
URL:https://corbettstucson.com/events-cal/monday-open-play/2029-02-05
ATTACH;FMTTYPE=image/png:https://corbettstucson.com/wp-content/uploads/2024/04/Open-Play-DJ-IG-Post.png
END:VEVENT
END:VCALENDAR